BEGIN:VCALENDAR
VERSION:2.0
PRODID:-//The HorseLink - ECPv6.15.8//NONSGML v1.0//EN
CALSCALE:GREGORIAN
METHOD:PUBLISH
X-WR-CALNAME:The HorseLink
X-ORIGINAL-URL:https://thehorselink.org
X-WR-CALDESC:Events for The HorseLink
REFRESH-INTERVAL;VALUE=DURATION:PT1H
X-Robots-Tag:noindex
X-PUBLISHED-TTL:PT1H
BEGIN:VTIMEZONE
TZID:UTC
BEGIN:STANDARD
TZOFFSETFROM:+0000
TZOFFSETTO:+0000
TZNAME:UTC
DTSTART:20160101T000000
END:STANDARD
END:VTIMEZONE
BEGIN:VEVENT
DTSTART;TZID=UTC:20180301T173000
DTEND;TZID=UTC:20180301T200000
DTSTAMP:20260419T183751
CREATED:20180208T204112Z
LAST-MODIFIED:20180208T205136Z
UID:2634-1519925400-1519934400@thehorselink.org
SUMMARY:Amplify Austin Kick-Off Party
DESCRIPTION:You are invited to join us for our 4th Amplify Austin Kick-Off party. Watch the leaderboard and help cheer us on in the early hours of Amplify Austin excitement. Enjoy complimentary food with a cash bar with friends of HorseLink. \nThere is plenty of parking in their parking lot and on the street. Hope to see you there!
URL:https://thehorselink.org/event/amplify-austin-kick-off-party/
LOCATION:Brick Oven\, 1209 Red River\, Austin\, TX\, 78701
ATTACH;FMTTYPE=image/png:https://thehorselink.org/wp-content/uploads/2018/02/ILHIGH_FAM_ATX.png
END:VEVENT
BEGIN:VEVENT
DTSTART;TZID=UTC:20180209T100000
DTEND;TZID=UTC:20180209T120000
DTSTAMP:20260419T183751
CREATED:20170515T155013Z
LAST-MODIFIED:20180130T213058Z
UID:1274-1518170400-1518177600@thehorselink.org
SUMMARY:Demo and Open House
DESCRIPTION:Equine-Assisted Learning Demo and Open House\nCome enjoy an afternoon at the HorseLink farm. Gain insight into the work we do by attending a equine-assisted learning demonstration\, get up close and personal with the HorseLink herd in a meet and greet with the horses\, and learn more about us by visiting with staff\, board members\, and facilitators. \nOpen to all. No horse experience necessary. \n 
URL:https://thehorselink.org/event/equine-assisted-learning-demo-and-open-house/
LOCATION:HorseLink Farm\, 135 North Austin Dr\, Paige\, TX\, 78659\, United States
ATTACH;FMTTYPE=image/jpeg:https://thehorselink.org/wp-content/uploads/2017/05/sniffing.jpg
END:VEVENT
BEGIN:VEVENT
DTSTART;TZID=UTC:20171202T093000
DTEND;TZID=UTC:20171202T123000
DTSTAMP:20260419T183751
CREATED:20170525T154725Z
LAST-MODIFIED:20170903T212415Z
UID:1861-1512207000-1512217800@thehorselink.org
SUMMARY:Level II - Veterans and Horse Power program
DESCRIPTION:Session 4 of Level II—Veterans and Horse Power\nDelivered in four half-day workshops \,this comprehensive program is for anyone who has completed the Introductory session of the HorseLink for Veterans or Horse Power program. Each session has a theme and builds on previous sessions to increase bonding and trust between the participants and horses. As with the introductory programs\, participants get to enjoy a beautiful natural environment and the accepting\, non-judgmental spirit of horses while completing numerous exercises with them. \nWhat you will gain by completing this program: \n\nHow to create fulfilling relationships based in mutual respect and trust\nEmotional resilience – how to adapt\, overcome\, and even be transformed\, by life’s challenges\nImproved communication skills\, both verbal and non verbal\nHow to connect to and empower your true self\n\n  \n  \n 
URL:https://thehorselink.org/event/advanced-horse-power-program-4/
LOCATION:HorseLink Farm\, 135 North Austin Dr\, Paige\, TX\, 78659\, United States
ATTACH;FMTTYPE=image/jpeg:https://thehorselink.org/wp-content/uploads/2017/05/gallery-brown-horse.jpg
END:VEVENT
BEGIN:VEVENT
DTSTART;TZID=UTC:20171111T093000
DTEND;TZID=UTC:20171111T123000
DTSTAMP:20260419T183751
CREATED:20170525T155048Z
LAST-MODIFIED:20170903T212539Z
UID:1867-1510392600-1510403400@thehorselink.org
SUMMARY:Level II - Veterans and Horse Power program
DESCRIPTION:Session Three of Level II—Veterans and Horse Power\nDelivered in four half-day workshops \,this comprehensive program is for anyone who has completed the Introductory session of the HorseLink for Veterans or Horse Power program. Each session has a theme and builds on previous sessions to increase bonding and trust between the participants and horses. As with the introductory programs\, participants get to enjoy a beautiful natural environment and the accepting\, non-judgmental spirit of horses while completing numerous exercises with them. \nWhat you will gain by completing this program: \n\nHow to create fulfilling relationships based in mutual respect and trust\nEmotional resilience – how to adapt\, overcome\, and even be transformed\, by life’s challenges\nImproved communication skills\, both verbal and non verbal\nHow to connect to and empower your true self\n\n  \n  \n 
URL:https://thehorselink.org/event/advanced-veterans-program-3/
LOCATION:HorseLink Farm\, 135 North Austin Dr\, Paige\, TX\, 78659\, United States
ATTACH;FMTTYPE=image/jpeg:https://thehorselink.org/wp-content/uploads/2017/05/veterans-header.jpg
END:VEVENT
BEGIN:VEVENT
DTSTART;TZID=UTC:20171028T093000
DTEND;TZID=UTC:20171028T123000
DTSTAMP:20260419T183751
CREATED:20170525T154453Z
LAST-MODIFIED:20170903T212643Z
UID:1857-1509183000-1509193800@thehorselink.org
SUMMARY:Level II - Veterans and Horse Power programs
DESCRIPTION:Session Two of Level II—Veterans and Horse Power\nDelivered in four half-day workshops \,this comprehensive program is for anyone who has completed the Introductory session of the HorseLink for Veterans or Horse Power program. Each session has a theme and builds on previous sessions to increase bonding and trust between the participants and horses. As with the introductory programs\, participants get to enjoy a beautiful natural environment and the accepting\, non-judgmental spirit of horses while completing numerous exercises with them. \nWhat you will gain by completing this program: \n\nHow to create fulfilling relationships based in mutual respect and trust\nEmotional resilience – how to adapt\, overcome\, and even be transformed\, by life’s challenges\nImproved communication skills\, both verbal and non verbal\nHow to connect to and empower your true self\n\n  \n 
URL:https://thehorselink.org/event/advanced-horse-power-program-2/
LOCATION:HorseLink Farm\, 135 North Austin Dr\, Paige\, TX\, 78659\, United States
ATTACH;FMTTYPE=image/jpeg:https://thehorselink.org/wp-content/uploads/2017/05/gallery-PJ-loving-attention.jpg
END:VEVENT
BEGIN:VEVENT
DTSTART;TZID=UTC:20171014T093000
DTEND;TZID=UTC:20171014T123000
DTSTAMP:20260419T183751
CREATED:20170525T154903Z
LAST-MODIFIED:20170903T212738Z
UID:1863-1507973400-1507984200@thehorselink.org
SUMMARY:Level II - Veterans & Horse Power Programs
DESCRIPTION:Session One of Level II—Veterans and Horse Power\nDelivered in four half-day workshops \,this comprehensive program is for anyone who has completed the Introductory session of the HorseLink for Veterans or Horse Power program. Each session has a theme and builds on previous sessions to increase bonding and trust between the participants and horses. As with the introductory programs\, participants get to enjoy a beautiful natural environment and the accepting\, non-judgmental spirit of horses while completing numerous exercises with them. \nWhat you will gain by completing this program: \n\nHow to create fulfilling relationships based in mutual respect and trust\nEmotional resilience – how to adapt\, overcome\, and even be transformed\, by life’s challenges\nImproved communication skills\, both verbal and non verbal\nHow to connect to and empower your true self\n\n  \n 
URL:https://thehorselink.org/event/advanced-veterans-program/
LOCATION:HorseLink Farm\, 135 North Austin Dr\, Paige\, TX\, 78659\, United States
ATTACH;FMTTYPE=image/jpeg:https://thehorselink.org/wp-content/uploads/2017/05/gallery-Padi-connecting-with-a-veteran.jpg
END:VEVENT
END:VCALENDAR